BEGIN:VCALENDAR
VERSION:2.0
PRODID:-//wp-events-plugin.com//7.2.3.1//EN
TZID:Europe/Berlin
X-WR-TIMEZONE:Europe/Berlin
BEGIN:VEVENT
UID:0-70@moraviaart.com
DTSTART;TZID=Europe/Berlin:20220618T110000
DTEND;TZID=Europe/Berlin:20220703T180000
DTSTAMP:20220421T103545Z
URL:https://moraviaart.com/events/tarot-intensivkus/
SUMMARY:Tarot-Intensivkus
DESCRIPTION:Tarot Köln - Kartenlegen für neue Lösungen\nTarot ist der We
 gweiser zur eigenen Kraft und Energie\, es spiegelt die seelischen Zustän
 de des Augenblicks wider. Die Karten zeigen uns Entwicklungen und Hinderni
 sse sowie individuelle Potentiale\, die vielleicht noch brach liegen. Die 
 Bilder des Tarot zeigen uns\, wie die alltäglichen Lebensaufgaben und Pro
 bleme in Harmonie mit der kosmischen Ordnung gebracht werden können.\n\nM
 it dem Delphischen Tarot von Liz Greene richten Sie Fragen an sich und an 
 das Universum. Auf alle Fragen\, die Sie bewegen\, erhalten Sie hilfreiche
  Antworten für Ihre Entscheidungen.\n\nSonderveranstaltung\nTarot Intensi
 vkurs\n\nWochenendkurs: 18. und 19.6.22 und 2. und 3.7.22\n4 volle Tage vo
 n 11.00 - 17.oo bzs. 18.00 Uhr\nTeilnehmerInnen: 3 - 6 Personen\nPreis: 28
 0 Euro\nAm ersten Wochenende besprechen wir die Kleine Arkana und machen e
 rste Legeübungen und Interpretationen. Am zweiten Wochenende besprechen w
 ir die Große Arkana und Interperieren große Legungen.\nNach den Wochenen
 den sind sie in der Lagen\, zu Ihren Fragen die Karten zu legen und die De
 utungen selber zu erarbeiten.
ATTACH;FMTTYPE=image/jpeg:https://moraviaart.com/wp-content/uploads/2022/0
 4/8-der-Staebe-001.jpg
END:VEVENT
BEGIN:VTIMEZONE
TZID:Europe/Berlin
X-LIC-LOCATION:Europe/Berlin
BEGIN:DAYLIGHT
DTSTART:20220327T030000
TZOFFSETFROM:+0100
TZOFFSETTO:+0200
TZNAME:CEST
END:DAYLIGHT
END:VTIMEZONE
END:VCALENDAR