BEGIN:VCALENDAR
VERSION:2.0
PRODID:-//wp-events-plugin.com//7.2.3.1//EN
TZID:Europe/Berlin
X-WR-TIMEZONE:Europe/Berlin
BEGIN:VEVENT
UID:0-77@moraviaart.com
DTSTART;TZID=Europe/Berlin:20220916T180000
DTEND;TZID=Europe/Berlin:20220918T210000
DTSTAMP:20220817T195228Z
URL:https://moraviaart.com/events/offenes-atelier-3/
SUMMARY:Offenes Atelier
DESCRIPTION:16.09.2022 vom 18 bis 21 Uhr\n17.09.2022 von 12 bis 20 Uhr\n18.
 09.2022 von 12 bis 18 Uhr\n\nSonderangebot: Bilder\, Aktzeichnungen und Ma
 ndalas ab 10 \n\n\nEs gibt viele neue Bilder\, Wein und Suppe und viele Ge
 spräche über Kunst\, Gott und die Welt. Ich wurde mich freuen\, wenn ihr
  zahlreich kommt und Freunde\, Bekannte mitbringt.\n\nUtrechter Str. 2\, 5
 0674 Köln\, 0221-514817
ATTACH;FMTTYPE=image/jpeg:https://moraviaart.com/wp-content/uploads/2022/0
 8/87-mit-meiner-Kamera.jpg
END:VEVENT
BEGIN:VTIMEZONE
TZID:Europe/Berlin
X-LIC-LOCATION:Europe/Berlin
BEGIN:DAYLIGHT
DTSTART:20220327T030000
TZOFFSETFROM:+0100
TZOFFSETTO:+0200
TZNAME:CEST
END:DAYLIGHT
END:VTIMEZONE
END:VCALENDAR