BEGIN:VCALENDAR
VERSION:2.0
PRODID:-//wp-events-plugin.com//7.2.3.1//EN
TZID:Europe/Berlin
X-WR-TIMEZONE:Europe/Berlin
BEGIN:VEVENT
UID:0-113@moraviaart.com
DTSTART;TZID=Europe/Berlin:20240929T140000
DTEND;TZID=Europe/Berlin:20240929T140000
DTSTAMP:20240924T104407Z
URL:https://moraviaart.com/events/gemeinschaftsausstellung-hamm-sieg/
SUMMARY:Gemeinschaftsausstellung Hamm/Sieg
DESCRIPTION:Gemeinschaftsausstellung Hamm/Sieg\n\nmit dem Longericher Küns
 tlertreff\nVernissage am Sonntag 29.9.24 ab 14.00\nim KulturHausHamm\nSche
 idter Str. 11-13\n57577 Hamm/Sieg.\n
ATTACH;FMTTYPE=image/jpeg:https://moraviaart.com/wp-content/uploads/2024/0
 9/976.-Schiff-nach-Monet-scaled.jpg
END:VEVENT
BEGIN:VTIMEZONE
TZID:Europe/Berlin
X-LIC-LOCATION:Europe/Berlin
BEGIN:DAYLIGHT
DTSTART:20240331T030000
TZOFFSETFROM:+0100
TZOFFSETTO:+0200
TZNAME:CEST
END:DAYLIGHT
END:VTIMEZONE
END:VCALENDAR